BEGIN:VCALENDAR
VERSION:2.0
PRODID:-//Tactus Verslavingszorg - ECPv5.16.4.1//NONSGML v1.0//EN
CALSCALE:GREGORIAN
METHOD:PUBLISH
X-WR-CALNAME:Tactus Verslavingszorg
X-ORIGINAL-URL:https://www.tactus.nl
X-WR-CALDESC:Evenementen voor Tactus Verslavingszorg
BEGIN:VTIMEZONE
TZID:Europe/Amsterdam
BEGIN:DAYLIGHT
TZOFFSETFROM:+0100
TZOFFSETTO:+0200
TZNAME:CEST
DTSTART:20240331T010000
END:DAYLIGHT
BEGIN:STANDARD
TZOFFSETFROM:+0200
TZOFFSETTO:+0100
TZNAME:CET
DTSTART:20241027T010000
END:STANDARD
END:VTIMEZONE
BEGIN:VEVENT
DTSTART;VALUE=DATE:20241014
DTEND;VALUE=DATE:20241119
DTSTAMP:20260420T150715
CREATED:20240327T110156Z
LAST-MODIFIED:20240327T110156Z
UID:1114983-1728864000-1731974399@www.tactus.nl
SUMMARY:Help\, mijn kind kan niet zonder!
DESCRIPTION:Help\, mijn kind kan niet zonder is een cursus voor ouders en opvoeders met kinderen tussen de 12 en 23 jaar die problematisch alcohol drinken of te veel drugs gebruiken\, overmatig gamen of gokken. In vier avonden en een terugkomavond wordt met name ingegaan op de communicatie in het gezin en krijg je praktische informatie om anders met je kind om te gaan. \nDeze oudercursus bestaat uit een telefonische intake\, vier cursusavonden (van 19.30 tot 21.00 uur) en een terugkombijeenkomst. \nJe kunt alleen aanmelden als je woont in de regio Flevoland. Er is een beperkt aantal plekken beschikbaar.
URL:https://www.tactus.nl/event/help-mijn-kind-kan-niet-zonder-61/
LOCATION:Online
CATEGORIES:Preventie
ATTACH;FMTTYPE=image/jpeg:https://www.tactus.nl/wp-content/uploads/2020/03/Oudercursus-HELP-kleine-foto.jpg
END:VEVENT
END:VCALENDAR